Workbook
Name test: Kasblad!$N$14

Sheet Importeren
A1: Dagboek | B1: Valuta | C1: Datum | D1: Periode | E1: Kasnr | F1: BeginSaldo | G1: Eindsaldo | H1: Nr. | I1: Grootboeknummer | J1: Rel-Kpl | K1: Prj-Ast | L1: Bedrag ex. Btw | M1: Debet/Credit | N1: Omschrijving | O1: Bonnummer | P1: Btw Code | Q1: Transactiedatum
A2: =Kasblad!H6 -> KAS | B2: =Kasblad!H7 -> EUR | C2: =Kasblad!H8 -> 46326 | D2: =Kasblad!$H$9 -> 2026/10 | E2: =Kasblad!P6 -> 1 | F2: =Kasblad!P7 -> 0 | G2: =Kasblad!P8 -> 380.52 | I2: 1000 | L2: =ABS(Kasblad!P9) -> 380.52 | M2: =IF(Kasblad!P9>0,"debit","credit") -> debit
A3: =IF(Kasblad!B14="","",$A$2) -> KAS | B3: =IF(Kasblad!B14="","",$B$2) -> EUR | C3: =IF(Kasblad!B14="","",$C$2) -> 46326 | D3: =IF(Kasblad!B14="","",$D$2) -> 2026/10 | E3: =IF(Kasblad!B14="","",$E$2) -> 1 | F3: =IF(Kasblad!B14="","",$F$2) -> 0 | G3: =IF(Kasblad!B14="","",$G$2) -> 380.52 | I3: =IF(Kasblad!B14="","",Kasblad!N14) -> 2500 | L3: =IF(Kasblad!B14="","",Kasblad!R14) -> 250 | M3: =IF(Kasblad!B14="","",(IF(Kasblad!J14>0,"debit","credit"))) -> credit | N3: =IF(Kasblad!B14="","",(Kasblad!D14)) -> Pinnen ABN-AMRO | O3: =IF(Kasblad!B14="","",IF(Kasblad!P14="","",Kasblad!P14)) | P3: =IF(Kasblad!B14="","",(Kasblad!V14)) | Q3: =IF(Kasblad!B14="","",(Kasblad!B14)) -> 46300
A4: =IF(Kasblad!B15="","",$A$2) -> KAS | B4: =IF(Kasblad!B15="","",$B$2) -> EUR | C4: =IF(Kasblad!B15="","",$C$2) -> 46326 | D4: =IF(Kasblad!B15="","",$D$2) -> 2026/10 | E4: =IF(Kasblad!B15="","",$E$2) -> 1 | F4: =IF(Kasblad!B15="","",$F$2) -> 0 | G4: =IF(Kasblad!B15="","",$G$2) -> 380.52 | I4: =IF(Kasblad!B15="","",Kasblad!N15) -> 4074 | L4: =IF(Kasblad!B15="","",Kasblad!R15) -> 22 | M4: =IF(Kasblad!B15="","",(IF(Kasblad!J15>0,"debit","credit"))) -> debit | N4: =IF(Kasblad!B15="","",(Kasblad!D15)) -> Boodschappen C1000 | O4: =IF(Kasblad!B15="","",IF(Kasblad!P15="","",Kasblad!P15)) | P4: =IF(Kasblad!B15="","",(Kasblad!V15)) -> IL | Q4: =IF(Kasblad!B15="","",(Kasblad!B15)) -> 46302
A5: =IF(Kasblad!B16="","",$A$2) -> KAS | B5: =IF(Kasblad!B16="","",$B$2) -> EUR | C5: =IF(Kasblad!B16="","",$C$2) -> 46326 | D5: =IF(Kasblad!B16="","",$D$2) -> 2026/10 | E5: =IF(Kasblad!B16="","",$E$2) -> 1 | F5: =IF(Kasblad!B16="","",$F$2) -> 0 | G5: =IF(Kasblad!B16="","",$G$2) -> 380.52 | I5: =IF(Kasblad!B16="","",Kasblad!N16) -> 8020 | L5: =IF(Kasblad!B16="","",Kasblad!R16) -> 2000 | M5: =IF(Kasblad!B16="","",(IF(Kasblad!J16>0,"debit","credit"))) -> credit | N5: =IF(Kasblad!B16="","",(Kasblad!D16)) -> 50 Dames jassen | O5: =IF(Kasblad!B16="","",IF(Kasblad!P16="","",Kasblad!P16)) -> VRK30981 | P5: =IF(Kasblad!B16="","",(Kasblad!V16)) -> VH | Q5: =IF(Kasblad!B16="","",(Kasblad!B16)) -> 46304
A6: =IF(Kasblad!B17="","",$A$2) -> KAS | B6: =IF(Kasblad!B17="","",$B$2) -> EUR | C6: =IF(Kasblad!B17="","",$C$2) -> 46326 | D6: =IF(Kasblad!B17="","",$D$2) -> 2026/10 | E6: =IF(Kasblad!B17="","",$E$2) -> 1 | F6: =IF(Kasblad!B17="","",$F$2) -> 0 | G6: =IF(Kasblad!B17="","",$G$2) -> 380.52 | I6: =IF(Kasblad!B17="","",Kasblad!N17) -> 4305 | L6: =IF(Kasblad!B17="","",Kasblad!R17) -> 1000 | M6: =IF(Kasblad!B17="","",(IF(Kasblad!J17>0,"debit","credit"))) -> debit | N6: =IF(Kasblad!B17="","",(Kasblad!D17)) -> Stand op beurs | O6: =IF(Kasblad!B17="","",IF(Kasblad!P17="","",Kasblad!P17)) -> 8957 | P6: =IF(Kasblad!B17="","",(Kasblad!V17)) -> IH | Q6: =IF(Kasblad!B17="","",(Kasblad!B17)) -> 46306
A7: =IF(Kasblad!B18="","",$A$2) -> KAS | B7: =IF(Kasblad!B18="","",$B$2) -> EUR | C7: =IF(Kasblad!B18="","",$C$2) -> 46326 | D7: =IF(Kasblad!B18="","",$D$2) -> 2026/10 | E7: =IF(Kasblad!B18="","",$E$2) -> 1 | F7: =IF(Kasblad!B18="","",$F$2) -> 0 | G7: =IF(Kasblad!B18="","",$G$2) -> 380.52 | I7: =IF(Kasblad!B18="","",Kasblad!N18) -> 4074 | L7: =IF(Kasblad!B18="","",Kasblad!R18) -> 50 | M7: =IF(Kasblad!B18="","",(IF(Kasblad!J18>0,"debit","credit"))) -> debit | N7: =IF(Kasblad!B18="","",(Kasblad!D18)) -> Boodschappen Hema | O7: =IF(Kasblad!B18="","",IF(Kasblad!P18="","",Kasblad!P18)) | P7: =IF(Kasblad!B18="","",(Kasblad!V18)) -> IH | Q7: =IF(Kasblad!B18="","",(Kasblad!B18)) -> 46308
A8: =IF(Kasblad!B19="","",$A$2) -> KAS | B8: =IF(Kasblad!B19="","",$B$2) -> EUR | C8: =IF(Kasblad!B19="","",$C$2) -> 46326 | D8: =IF(Kasblad!B19="","",$D$2) -> 2026/10 | E8: =IF(Kasblad!B19="","",$E$2) -> 1 | F8: =IF(Kasblad!B19="","",$F$2) -> 0 | G8: =IF(Kasblad!B19="","",$G$2) -> 380.52 | I8: =IF(Kasblad!B19="","",Kasblad!N19) -> 4868 | L8: =IF(Kasblad!B19="","",Kasblad!R19) -> 409.09 | M8: =IF(Kasblad!B19="","",(IF(Kasblad!J19>0,"debit","credit"))) -> debit | N8: =IF(Kasblad!B19="","",(Kasblad!D19)) -> Printer HP380 | O8: =IF(Kasblad!B19="","",IF(Kasblad!P19="","",Kasblad!P19)) -> HP568971 | P8: =IF(Kasblad!B19="","",(Kasblad!V19)) -> IH | Q8: =IF(Kasblad!B19="","",(Kasblad!B19)) -> 46310
A9: =IF(Kasblad!B20="","",$A$2) -> KAS | B9: =IF(Kasblad!B20="","",$B$2) -> EUR | C9: =IF(Kasblad!B20="","",$C$2) -> 46326 | D9: =IF(Kasblad!B20="","",$D$2) -> 2026/10 | E9: =IF(Kasblad!B20="","",$E$2) -> 1 | F9: =IF(Kasblad!B20="","",$F$2) -> 0 | G9: =IF(Kasblad!B20="","",$G$2) -> 380.52 | I9: =IF(Kasblad!B20="","",Kasblad!N20) -> 2500 | L9: =IF(Kasblad!B20="","",Kasblad!R20) -> 500 | M9: =IF(Kasblad!B20="","",(IF(Kasblad!J20>0,"debit","credit"))) -> debit | N9: =IF(Kasblad!B20="","",(Kasblad!D20)) -> Kasstorting | O9: =IF(Kasblad!B20="","",IF(Kasblad!P20="","",Kasblad!P20)) | P9: =IF(Kasblad!B20="","",(Kasblad!V20)) | Q9: =IF(Kasblad!B20="","",(Kasblad!B20)) -> 46322
A10: =IF(Kasblad!B21="","",$A$2) | B10: =IF(Kasblad!B21="","",$B$2) | C10: =IF(Kasblad!B21="","",$C$2) | D10: =IF(Kasblad!B21="","",$D$2) | E10: =IF(Kasblad!B21="","",$E$2) | F10: =IF(Kasblad!B21="","",$F$2) | G10: =IF(Kasblad!B21="","",$G$2) | I10: =IF(Kasblad!B21="","",Kasblad!N21) | L10: =IF(Kasblad!B21="","",Kasblad!R21) | M10: =IF(Kasblad!B21="","",(IF(Kasblad!J21>0,"debit","credit"))) | N10: =IF(Kasblad!B21="","",(Kasblad!D21)) | O10: =IF(Kasblad!B21="","",(Kasblad!P21)) | P10: =IF(Kasblad!B21="","",(Kasblad!V21)) | Q10: =IF(Kasblad!B21="","",(Kasblad!B21))
A11: =IF(Kasblad!B22="","",$A$2) | B11: =IF(Kasblad!B22="","",$B$2) | C11: =IF(Kasblad!B22="","",$C$2) | D11: =IF(Kasblad!B22="","",$D$2) | E11: =IF(Kasblad!B22="","",$E$2) | F11: =IF(Kasblad!B22="","",$F$2) | G11: =IF(Kasblad!B22="","",$G$2) | I11: =IF(Kasblad!B22="","",Kasblad!N22) | L11: =IF(Kasblad!B22="","",Kasblad!R22) | M11: =IF(Kasblad!B22="","",(IF(Kasblad!J22>0,"debit","credit"))) | N11: =IF(Kasblad!B22="","",(Kasblad!D22)) | O11: =IF(Kasblad!B22="","",(Kasblad!P22)) | P11: =IF(Kasblad!B22="","",(Kasblad!V22)) | Q11: =IF(Kasblad!B22="","",(Kasblad!B22))
A12: =IF(Kasblad!B23="","",$A$2) | B12: =IF(Kasblad!B23="","",$B$2) | C12: =IF(Kasblad!B23="","",$C$2) | D12: =IF(Kasblad!B23="","",$D$2) | E12: =IF(Kasblad!B23="","",$E$2) | F12: =IF(Kasblad!B23="","",$F$2) | G12: =IF(Kasblad!B23="","",$G$2) | I12: =IF(Kasblad!B23="","",Kasblad!N23) | L12: =IF(Kasblad!B23="","",Kasblad!R23) | M12: =IF(Kasblad!B23="","",(IF(Kasblad!J23>0,"debit","credit"))) | N12: =IF(Kasblad!B23="","",(Kasblad!D23)) | O12: =IF(Kasblad!B23="","",(Kasblad!P23)) | P12: =IF(Kasblad!B23="","",(Kasblad!V23)) | Q12: =IF(Kasblad!B23="","",(Kasblad!B23))
A13: =IF(Kasblad!B24="","",$A$2) | B13: =IF(Kasblad!B24="","",$B$2) | C13: =IF(Kasblad!B24="","",$C$2) | D13: =IF(Kasblad!B24="","",$D$2) | E13: =IF(Kasblad!B24="","",$E$2) | F13: =IF(Kasblad!B24="","",$F$2) | G13: =IF(Kasblad!B24="","",$G$2) | I13: =IF(Kasblad!B24="","",Kasblad!N24) | L13: =IF(Kasblad!B24="","",Kasblad!R24) | M13: =IF(Kasblad!B24="","",(IF(Kasblad!J24>0,"debit","credit"))) | N13: =IF(Kasblad!B24="","",(Kasblad!D24)) | O13: =IF(Kasblad!B24="","",(Kasblad!P24)) | P13: =IF(Kasblad!B24="","",(Kasblad!V24)) | Q13: =IF(Kasblad!B24="","",(Kasblad!B24))
A14: =IF(Kasblad!B25="","",$A$2) | B14: =IF(Kasblad!B25="","",$B$2) | C14: =IF(Kasblad!B25="","",$C$2) | D14: =IF(Kasblad!B25="","",$D$2) | E14: =IF(Kasblad!B25="","",$E$2) | F14: =IF(Kasblad!B25="","",$F$2) | G14: =IF(Kasblad!B25="","",$G$2) | I14: =IF(Kasblad!B25="","",Kasblad!N25) | L14: =IF(Kasblad!B25="","",Kasblad!R25) | M14: =IF(Kasblad!B25="","",(IF(Kasblad!J25>0,"debit","credit"))) | N14: =IF(Kasblad!B25="","",(Kasblad!D25)) | O14: =IF(Kasblad!B25="","",(Kasblad!P25)) | P14: =IF(Kasblad!B25="","",(Kasblad!V25)) | Q14: =IF(Kasblad!B25="","",(Kasblad!B25))
A15: =IF(Kasblad!B26="","",$A$2) | B15: =IF(Kasblad!B26="","",$B$2) | C15: =IF(Kasblad!B26="","",$C$2) | D15: =IF(Kasblad!B26="","",$D$2) | E15: =IF(Kasblad!B26="","",$E$2) | F15: =IF(Kasblad!B26="","",$F$2) | G15: =IF(Kasblad!B26="","",$G$2) | I15: =IF(Kasblad!B26="","",Kasblad!N26) | L15: =IF(Kasblad!B26="","",Kasblad!R26) | M15: =IF(Kasblad!B26="","",(IF(Kasblad!J26>0,"debit","credit"))) | N15: =IF(Kasblad!B26="","",(Kasblad!D26)) | O15: =IF(Kasblad!B26="","",(Kasblad!P26)) | P15: =IF(Kasblad!B26="","",(Kasblad!V26)) | Q15: =IF(Kasblad!B26="","",(Kasblad!B26))
A16: =IF(Kasblad!B27="","",$A$2) | B16: =IF(Kasblad!B27="","",$B$2) | C16: =IF(Kasblad!B27="","",$C$2) | D16: =IF(Kasblad!B27="","",$D$2) | E16: =IF(Kasblad!B27="","",$E$2) | F16: =IF(Kasblad!B27="","",$F$2) | G16: =IF(Kasblad!B27="","",$G$2) | I16: =IF(Kasblad!B27="","",Kasblad!N27) | L16: =IF(Kasblad!B27="","",Kasblad!R27) | M16: =IF(Kasblad!B27="","",(IF(Kasblad!J27>0,"debit","credit"))) | N16: =IF(Kasblad!B27="","",(Kasblad!D27)) | O16: =IF(Kasblad!B27="","",(Kasblad!P27)) | P16: =IF(Kasblad!B27="","",(Kasblad!V27)) | Q16: =IF(Kasblad!B27="","",(Kasblad!B27))
A17: =IF(Kasblad!B28="","",$A$2) | B17: =IF(Kasblad!B28="","",$B$2) | C17: =IF(Kasblad!B28="","",$C$2) | D17: =IF(Kasblad!B28="","",$D$2) | E17: =IF(Kasblad!B28="","",$E$2) | F17: =IF(Kasblad!B28="","",$F$2) | G17: =IF(Kasblad!B28="","",$G$2) | I17: =IF(Kasblad!B28="","",Kasblad!N28) | L17: =IF(Kasblad!B28="","",Kasblad!R28) | M17: =IF(Kasblad!B28="","",(IF(Kasblad!J28>0,"debit","credit"))) | N17: =IF(Kasblad!B28="","",(Kasblad!D28)) | O17: =IF(Kasblad!B28="","",(Kasblad!P28)) | P17: =IF(Kasblad!B28="","",(Kasblad!V28)) | Q17: =IF(Kasblad!B28="","",(Kasblad!B28))
A18: =IF(Kasblad!B29="","",$A$2) | B18: =IF(Kasblad!B29="","",$B$2) | C18: =IF(Kasblad!B29="","",$C$2) | D18: =IF(Kasblad!B29="","",$D$2) | E18: =IF(Kasblad!B29="","",$E$2) | F18: =IF(Kasblad!B29="","",$F$2) | G18: =IF(Kasblad!B29="","",$G$2) | I18: =IF(Kasblad!B29="","",Kasblad!N29) | L18: =IF(Kasblad!B29="","",Kasblad!R29) | M18: =IF(Kasblad!B29="","",(IF(Kasblad!J29>0,"debit","credit"))) | N18: =IF(Kasblad!B29="","",(Kasblad!D29)) | O18: =IF(Kasblad!B29="","",(Kasblad!P29)) | P18: =IF(Kasblad!B29="","",(Kasblad!V29)) | Q18: =IF(Kasblad!B29="","",(Kasblad!B29))
A19: =IF(Kasblad!B30="","",$A$2) | B19: =IF(Kasblad!B30="","",$B$2) | C19: =IF(Kasblad!B30="","",$C$2) | D19: =IF(Kasblad!B30="","",$D$2) | E19: =IF(Kasblad!B30="","",$E$2) | F19: =IF(Kasblad!B30="","",$F$2) | G19: =IF(Kasblad!B30="","",$G$2) | I19: =IF(Kasblad!B30="","",Kasblad!N30) | L19: =IF(Kasblad!B30="","",Kasblad!R30) | M19: =IF(Kasblad!B30="","",(IF(Kasblad!J30>0,"debit","credit"))) | N19: =IF(Kasblad!B30="","",(Kasblad!D30)) | O19: =IF(Kasblad!B30="","",(Kasblad!P30)) | P19: =IF(Kasblad!B30="","",(Kasblad!V30)) | Q19: =IF(Kasblad!B30="","",(Kasblad!B30))
A20: =IF(Kasblad!B31="","",$A$2) | B20: =IF(Kasblad!B31="","",$B$2) | C20: =IF(Kasblad!B31="","",$C$2) | D20: =IF(Kasblad!B31="","",$D$2) | E20: =IF(Kasblad!B31="","",$E$2) | F20: =IF(Kasblad!B31="","",$F$2) | G20: =IF(Kasblad!B31="","",$G$2) | I20: =IF(Kasblad!B31="","",Kasblad!N31) | L20: =IF(Kasblad!B31="","",Kasblad!R31) | M20: =IF(Kasblad!B31="","",(IF(Kasblad!J31>0,"debit","credit"))) | N20: =IF(Kasblad!B31="","",(Kasblad!D31)) | O20: =IF(Kasblad!B31="","",(Kasblad!P31)) | P20: =IF(Kasblad!B31="","",(Kasblad!V31)) | Q20: =IF(Kasblad!B31="","",(Kasblad!B31))
A21: =IF(Kasblad!B32="","",$A$2) | B21: =IF(Kasblad!B32="","",$B$2) | C21: =IF(Kasblad!B32="","",$C$2) | D21: =IF(Kasblad!B32="","",$D$2) | E21: =IF(Kasblad!B32="","",$E$2) | F21: =IF(Kasblad!B32="","",$F$2) | G21: =IF(Kasblad!B32="","",$G$2) | I21: =IF(Kasblad!B32="","",Kasblad!N32) | L21: =IF(Kasblad!B32="","",Kasblad!R32) | M21: =IF(Kasblad!B32="","",(IF(Kasblad!J32>0,"debit","credit"))) | N21: =IF(Kasblad!B32="","",(Kasblad!D32)) | O21: =IF(Kasblad!B32="","",(Kasblad!P32)) | P21: =IF(Kasblad!B32="","",(Kasblad!V32)) | Q21: =IF(Kasblad!B32="","",(Kasblad!B32))
... A102: =IF(Kasblad!B113="","",$A$2) | B102: =IF(Kasblad!B113="","",$B$2) | C102: =IF(Kasblad!B113="","",$C$2) | D102: =IF(Kasblad!B113="","",$D$2) | E102: =IF(Kasblad!B113="","",$E$2) | F102: =IF(Kasblad!B113="","",$F$2) | G102: =IF(Kasblad!B113="","",$G$2) | I102: =IF(Kasblad!B113="","",Kasblad!N113) | L102: =IF(Kasblad!B113="","",Kasblad!R113) | M102: =IF(Kasblad!B113="","",(IF(Kasblad!J113>0,"debit","credit"))) | N102: =IF(Kasblad!B113="","",(Kasblad!D113)) | O102: =IF(Kasblad!B113="","",(Kasblad!P113)) | P102: =IF(Kasblad!B113="","",(Kasblad!V113)) | Q102: =IF(Kasblad!B113="","",(Kasblad!B113))

Sheet Kasblad
B2: <Accountants kantoor> - <Naam klant>
F6: Dagboek | H6: KAS | L6: Kasstaatnummer | P6: 1 | U6: In kas = credit
F7: Valuta | H7: EUR | L7: Beginsaldo | P7: 0 | U7: Uit kas = debet
F8: Laatste dag vd maand | H8: 46326 | L8: Eindsaldo | P8: =P7+(H13-J13) -> 380.52
F9: Periode | H9: =YEAR(H8)&"/"&MONTH(H8) -> 2026/10 | L9: Mutatie | P9: =ROUND((P8-P7),2) -> 380.52
U11: Btw % | V11: Btw code
G13: Totaal | H13: =SUM(H14:H200) -> 2670 | J13: =SUM(J14:J200) -> 2289.48 | L13: =SUM(L14:L200) -> 728.39 | R13: =SUM(R14:R200) -> 4231.09
A14: 1 | B14: 46300 | D14: Pinnen ABN-AMRO | H14: 250 | N14: 2500 | R14: =ROUND((H14+J14-L14),2) -> 250 | U14: =L14/R14*100 -> 0 | V14: =IF((AND(U14>18,U14<22)),(IF(J14>0,"IH","VH")),IF((AND(U14>5,U14<10)),(IF(J14>0,"IL","VL")),""))
A15: 2 | B15: 46302 | D15: Boodschappen C1000 | J15: 23.98 | L15: 1.98 | N15: 4074 | R15: =IF(B15="","",(ROUND((H15+J15-L15),2))) -> 22 | T15: =IF((AND(S15>18,S15<20)),(IF(L15>0,"IH","VH")),IF((AND(S15>5,S15<7)),(IF(L15>0,"IL","VL")),"")) | U15: =IF(B15="","",(L15/R15*100)) -> 9 | V15: =IF((AND(U15>18,U15<22)),(IF(J15>0,"IH","VH")),IF((AND(U15>5,U15<10)),(IF(J15>0,"IL","VL")),"")) -> IL
A16: 3 | B16: 46304 | D16: 50 Dames jassen | H16: 2420 | L16: 420 | N16: 8020 | P16: VRK30981 | R16: =IF(B16="","",(ROUND((H16+J16-L16),2))) -> 2000 | T16: =IF((AND(S16>18,S16<20)),(IF(L16>0,"IH","VH")),IF((AND(S16>5,S16<7)),(IF(L16>0,"IL","VL")),"")) | U16: =IF(B16="","",(L16/R16*100)) -> 21 | V16: =IF((AND(U16>18,U16<22)),(IF(J16>0,"IH","VH")),IF((AND(U16>5,U16<10)),(IF(J16>0,"IL","VL")),"")) -> VH
A17: 4 | B17: 46306 | D17: Stand op beurs | J17: 1210 | L17: 210 | N17: 4305 | P17: 8957 | R17: =IF(B17="","",(ROUND((H17+J17-L17),2))) -> 1000 | T17: =IF((AND(S17>18,S17<20)),(IF(L17>0,"IH","VH")),IF((AND(S17>5,S17<7)),(IF(L17>0,"IL","VL")),"")) | U17: =IF(B17="","",(L17/R17*100)) -> 21 | V17: =IF((AND(U17>18,U17<22)),(IF(J17>0,"IH","VH")),IF((AND(U17>5,U17<10)),(IF(J17>0,"IL","VL")),"")) -> IH
A18: 5 | B18: 46308 | D18: Boodschappen Hema | J18: 60.5 | L18: 10.5 | N18: 4074 | R18: =IF(B18="","",(ROUND((H18+J18-L18),2))) -> 50 | T18: =IF((AND(S18>18,S18<20)),(IF(L18>0,"IH","VH")),IF((AND(S18>5,S18<7)),(IF(L18>0,"IL","VL")),"")) | U18: =IF(B18="","",(L18/R18*100)) -> 21 | V18: =IF((AND(U18>18,U18<22)),(IF(J18>0,"IH","VH")),IF((AND(U18>5,U18<10)),(IF(J18>0,"IL","VL")),"")) -> IH
A19: 6 | B19: 46310 | D19: Printer HP380 | J19: 495 | L19: 85.91 | N19: 4868 | P19: HP568971 | R19: =IF(B19="","",(ROUND((H19+J19-L19),2))) -> 409.09 | T19: =IF((AND(S19>18,S19<20)),(IF(L19>0,"IH","VH")),IF((AND(S19>5,S19<7)),(IF(L19>0,"IL","VL")),"")) | U19: =IF(B19="","",(L19/R19*100)) -> 21.000269 | V19: =IF((AND(U19>18,U19<22)),(IF(J19>0,"IH","VH")),IF((AND(U19>5,U19<10)),(IF(J19>0,"IL","VL")),"")) -> IH
A20: 7 | B20: 46322 | D20: Kasstorting | J20: 500 | N20: 2500 | R20: =IF(B20="","",(ROUND((H20+J20-L20),2))) -> 500 | T20: =IF((AND(S20>18,S20<20)),(IF(L20>0,"IH","VH")),IF((AND(S20>5,S20<7)),(IF(L20>0,"IL","VL")),"")) | U20: =IF(B20="","",(L20/R20*100)) -> 0 | V20: =IF((AND(U20>18,U20<22)),(IF(J20>0,"IH","VH")),IF((AND(U20>5,U20<10)),(IF(J20>0,"IL","VL")),""))
A21: 8 | R21: =IF(B21="","",(ROUND((H21+J21-L21),2))) | T21: =IF((AND(S21>18,S21<20)),(IF(L21>0,"IH","VH")),IF((AND(S21>5,S21<7)),(IF(L21>0,"IL","VL")),"")) | U21: =IF(B21="","",(L21/R21*100)) | V21: =IF((AND(U21>18,U21<22)),(IF(J21>0,"IH","VH")),IF((AND(U21>5,U21<10)),(IF(J21>0,"IL","VL")),""))
A22: 9 | R22: =IF(B22="","",(ROUND((H22+J22-L22),2))) | T22: =IF((AND(S22>18,S22<20)),(IF(L22>0,"IH","VH")),IF((AND(S22>5,S22<7)),(IF(L22>0,"IL","VL")),"")) | U22: =IF(B22="","",(L22/R22*100)) | V22: =IF((AND(U22>18,U22<22)),(IF(J22>0,"IH","VH")),IF((AND(U22>5,U22<10)),(IF(J22>0,"IL","VL")),""))
A23: 10 | R23: =IF(B23="","",(ROUND((H23+J23-L23),2))) | T23: =IF((AND(S23>18,S23<20)),(IF(L23>0,"IH","VH")),IF((AND(S23>5,S23<7)),(IF(L23>0,"IL","VL")),"")) | U23: =IF(B23="","",(L23/R23*100)) | V23: =IF((AND(U23>18,U23<22)),(IF(J23>0,"IH","VH")),IF((AND(U23>5,U23<10)),(IF(J23>0,"IL","VL")),""))
A24: 11 | R24: =IF(B24="","",(ROUND((H24+J24-L24),2))) | T24: =IF((AND(S24>18,S24<20)),(IF(L24>0,"IH","VH")),IF((AND(S24>5,S24<7)),(IF(L24>0,"IL","VL")),"")) | U24: =IF(B24="","",(L24/R24*100)) | V24: =IF((AND(U24>18,U24<22)),(IF(J24>0,"IH","VH")),IF((AND(U24>5,U24<10)),(IF(J24>0,"IL","VL")),""))
A25: 12 | R25: =IF(B25="","",(ROUND((H25+J25-L25),2))) | T25: =IF((AND(S25>18,S25<20)),(IF(L25>0,"IH","VH")),IF((AND(S25>5,S25<7)),(IF(L25>0,"IL","VL")),"")) | U25: =IF(B25="","",(L25/R25*100)) | V25: =IF((AND(U25>18,U25<22)),(IF(J25>0,"IH","VH")),IF((AND(U25>5,U25<10)),(IF(J25>0,"IL","VL")),""))
A26: 13 | R26: =IF(B26="","",(ROUND((H26+J26-L26),2))) | T26: =IF((AND(S26>18,S26<20)),(IF(L26>0,"IH","VH")),IF((AND(S26>5,S26<7)),(IF(L26>0,"IL","VL")),"")) | U26: =IF(B26="","",(L26/R26*100)) | V26: =IF((AND(U26>18,U26<22)),(IF(J26>0,"IH","VH")),IF((AND(U26>5,U26<10)),(IF(J26>0,"IL","VL")),""))
A27: 14 | R27: =IF(B27="","",(ROUND((H27+J27-L27),2))) | T27: =IF((AND(S27>18,S27<20)),(IF(L27>0,"IH","VH")),IF((AND(S27>5,S27<7)),(IF(L27>0,"IL","VL")),"")) | U27: =IF(B27="","",(L27/R27*100)) | V27: =IF((AND(U27>18,U27<22)),(IF(J27>0,"IH","VH")),IF((AND(U27>5,U27<10)),(IF(J27>0,"IL","VL")),""))
A28: 15 | R28: =IF(B28="","",(ROUND((H28+J28-L28),2))) | T28: =IF((AND(S28>18,S28<20)),(IF(L28>0,"IH","VH")),IF((AND(S28>5,S28<7)),(IF(L28>0,"IL","VL")),"")) | U28: =IF(B28="","",(L28/R28*100)) | V28: =IF((AND(U28>18,U28<22)),(IF(J28>0,"IH","VH")),IF((AND(U28>5,U28<10)),(IF(J28>0,"IL","VL")),""))
A29: 16 | R29: =IF(B29="","",(ROUND((H29+J29-L29),2))) | T29: =IF((AND(S29>18,S29<20)),(IF(L29>0,"IH","VH")),IF((AND(S29>5,S29<7)),(IF(L29>0,"IL","VL")),"")) | U29: =IF(B29="","",(L29/R29*100)) | V29: =IF((AND(U29>18,U29<22)),(IF(J29>0,"IH","VH")),IF((AND(U29>5,U29<10)),(IF(J29>0,"IL","VL")),""))
A30: 17 | R30: =IF(B30="","",(ROUND((H30+J30-L30),2))) | T30: =IF((AND(S30>18,S30<20)),(IF(L30>0,"IH","VH")),IF((AND(S30>5,S30<7)),(IF(L30>0,"IL","VL")),"")) | U30: =IF(B30="","",(L30/R30*100)) | V30: =IF((AND(U30>18,U30<22)),(IF(J30>0,"IH","VH")),IF((AND(U30>5,U30<10)),(IF(J30>0,"IL","VL")),""))
A31: 18 | R31: =IF(B31="","",(ROUND((H31+J31-L31),2))) | T31: =IF((AND(S31>18,S31<20)),(IF(L31>0,"IH","VH")),IF((AND(S31>5,S31<7)),(IF(L31>0,"IL","VL")),"")) | U31: =IF(B31="","",(L31/R31*100)) | V31: =IF((AND(U31>18,U31<22)),(IF(J31>0,"IH","VH")),IF((AND(U31>5,U31<10)),(IF(J31>0,"IL","VL")),""))
A32: 19 | R32: =IF(B32="","",(ROUND((H32+J32-L32),2))) | U32: =IF(B32="","",(L32/R32*100)) | V32: =IF((AND(U32>18,U32<22)),(IF(J32>0,"IH","VH")),IF((AND(U32>5,U32<10)),(IF(J32>0,"IL","VL")),""))
A33: 20 | R33: =IF(B33="","",(ROUND((H33+J33-L33),2))) | U33: =IF(B33="","",(L33/R33*100)) | V33: =IF((AND(U33>18,U33<22)),(IF(J33>0,"IH","VH")),IF((AND(U33>5,U33<10)),(IF(J33>0,"IL","VL")),""))
A34: 21 | R34: =IF(B34="","",(ROUND((H34+J34-L34),2))) | U34: =IF(B34="","",(L34/R34*100)) | V34: =IF((AND(U34>18,U34<22)),(IF(J34>0,"IH","VH")),IF((AND(U34>5,U34<10)),(IF(J34>0,"IL","VL")),""))
A35: 22 | R35: =IF(B35="","",(ROUND((H35+J35-L35),2))) | U35: =IF(B35="","",(L35/R35*100)) | V35: =IF((AND(U35>18,U35<22)),(IF(J35>0,"IH","VH")),IF((AND(U35>5,U35<10)),(IF(J35>0,"IL","VL")),""))
A36: 23 | R36: =IF(B36="","",(ROUND((H36+J36-L36),2))) | U36: =IF(B36="","",(L36/R36*100)) | V36: =IF((AND(U36>18,U36<22)),(IF(J36>0,"IH","VH")),IF((AND(U36>5,U36<10)),(IF(J36>0,"IL","VL")),""))
A37: 24 | R37: =IF(B37="","",(ROUND((H37+J37-L37),2))) | U37: =IF(B37="","",(L37/R37*100)) | V37: =IF((AND(U37>18,U37<22)),(IF(J37>0,"IH","VH")),IF((AND(U37>5,U37<10)),(IF(J37>0,"IL","VL")),""))
A38: 25 | R38: =IF(B38="","",(ROUND((H38+J38-L38),2))) | U38: =IF(B38="","",(L38/R38*100)) | V38: =IF((AND(U38>18,U38<22)),(IF(J38>0,"IH","VH")),IF((AND(U38>5,U38<10)),(IF(J38>0,"IL","VL")),""))
A39: 26 | R39: =IF(B39="","",(ROUND((H39+J39-L39),2))) | U39: =IF(B39="","",(L39/R39*100)) | V39: =IF((AND(U39>18,U39<22)),(IF(J39>0,"IH","VH")),IF((AND(U39>5,U39<10)),(IF(J39>0,"IL","VL")),""))
A40: 27 | R40: =IF(B40="","",(ROUND((H40+J40-L40),2))) | U40: =IF(B40="","",(L40/R40*100)) | V40: =IF((AND(U40>18,U40<22)),(IF(J40>0,"IH","VH")),IF((AND(U40>5,U40<10)),(IF(J40>0,"IL","VL")),""))
A41: 28 | R41: =IF(B41="","",(ROUND((H41+J41-L41),2))) | U41: =IF(B41="","",(L41/R41*100)) | V41: =IF((AND(U41>18,U41<22)),(IF(J41>0,"IH","VH")),IF((AND(U41>5,U41<10)),(IF(J41>0,"IL","VL")),""))
A42: 29 | R42: =IF(B42="","",(ROUND((H42+J42-L42),2))) | U42: =IF(B42="","",(L42/R42*100)) | V42: =IF((AND(U42>18,U42<22)),(IF(J42>0,"IH","VH")),IF((AND(U42>5,U42<10)),(IF(J42>0,"IL","VL")),""))
A43: 30 | R43: =IF(B43="","",(ROUND((H43+J43-L43),2))) | U43: =IF(B43="","",(L43/R43*100)) | V43: =IF((AND(U43>18,U43<22)),(IF(J43>0,"IH","VH")),IF((AND(U43>5,U43<10)),(IF(J43>0,"IL","VL")),""))
... A113: 100 | R113: =IF(B113="","",(ROUND((H113+J113-L113),2))) | U113: =IF(B113="","",(L113/R113*100)) | V113: =IF((AND(U113>18,U113<22)),(IF(J113>0,"IH","VH")),IF((AND(U113>5,U113<10)),(IF(J113>0,"IL","VL")),""))

Sheet Toelichting
B2: Toelichting:
C4: Op het tabblad Kasblad worden de kasbonnen ingevoerd. Een aantal velden worden automatisch gevuld; bijvoorbeeld het veld bedrag excl btw. Deze wordt berekend aan de hand van de ingevulde bedragen op de velden kas-in/kas-uit en btw.
C5: De ingevulde waarden op het tabblad Kasblad zorgen automatisch voor de invoer in het tabblad Importeren. Dit Importeren tabblad heeft de waarden die nodig zijn om de kasstaat in te lezen in Twinfield.
C6: De grootboekrekening voor de Kas is standaard 1000. Pas deze grootboekrekening aan in het tabblad Importeren, de tweede regel, indien het een andere waarde is.
C8: Sla dit excel-bestand op en importeer het vervolgens via de functie Bestandsbeheer in Twinfield. Kies voor het werkblad 'Importeren' en het sjabloon 'Journaalposten (Kas/Bank)'.
B16: Let op:
C18: Twinfield aanvaardt geen aansprakelijkheid voor het foutief gebruik van dit voorbeeld import-bestand.
